Workbook

Sheet 기업확인
B2: 청년 매칭 결과 확인
B3: ① 기업명 선택 후 선정 결과 확인바랍니다. (입력 시 자동으로 결과 값 확인 가능)
B4: ② 선정자 리스트 내 참여자 확인 후 출근 관련 내용 기업에서 직접 공지해주시면 됩니다.
B5: ※ 본인 기업을 [기업선택] 셀에서 선택 바랍니다.
B7: 기업명 | C7: 배정인원 | D7: 선정인원 | E7: 선정 | F7: 선정 | G7: 선정 | H7: 선정 | I7: 비고
B8: 기업 선택 | C8: =VLOOKUP($B$8,면접결과!$C$2:$J$40,2,FALSE) -> #N/A | D8: =VLOOKUP($B$8,면접결과!$C$2:$J$40,3,FALSE) -> #N/A | E8: =VLOOKUP($B$8,면접결과!$C$2:$J$40,4,FALSE) -> #N/A | F8: =VLOOKUP($B$8,면접결과!$C$2:$J$40,5,FALSE) -> #N/A | G8: =VLOOKUP($B$8,면접결과!$C$2:$J$40,6,FALSE) -> #N/A | H8: =VLOOKUP($B$8,면접결과!$C$2:$J$40,7,FALSE) -> #N/A | I8: =VLOOKUP($B$8,면접결과!$C$2:$J$40,8,FALSE) -> #N/A
B10: 선정자 리스트
B11: 선정자 이름 | C11: 생년월일 | D11: 휴대폰 | E11: 이메일
B12: =E8 -> #N/A | C12: =VLOOKUP($B12,참여자!$B$2:$E$93,2,FALSE) -> #N/A | D12: =VLOOKUP($B12,참여자!$B$2:$E$93,3,FALSE) -> #N/A | E12: =VLOOKUP($B12,참여자!$B$2:$E$93,4,FALSE) -> #N/A
B13: =F8 -> #N/A | C13: =VLOOKUP($B13,참여자!$B$2:$E$93,2,FALSE) -> #N/A | D13: =VLOOKUP($B13,참여자!$B$2:$E$93,3,FALSE) -> #N/A | E13: =VLOOKUP($B13,참여자!$B$2:$E$93,4,FALSE) -> #N/A
B14: =G8 -> #N/A | C14: =VLOOKUP($B14,참여자!$B$2:$E$93,2,FALSE) -> #N/A | D14: =VLOOKUP($B14,참여자!$B$2:$E$93,3,FALSE) -> #N/A | E14: =VLOOKUP($B14,참여자!$B$2:$E$93,4,FALSE) -> #N/A
B15: =H8 -> #N/A | C15: =VLOOKUP($B15,참여자!$B$2:$E$93,2,FALSE) -> #N/A | D15: =VLOOKUP($B15,참여자!$B$2:$E$93,3,FALSE) -> #N/A | E15: =VLOOKUP($B15,참여자!$B$2:$E$93,4,FALSE) -> #N/A

Sheet 면접결과
B2: 시군 | C2: 기업명 | D2: 배정인원 | E2: 선정인원 | F2: 선정 | G2: 선정 | H2: 선정 | I2: 선정 | J2: 비고
B3: 거제시 | C3: 거제시관광기념품협동조합 | D3: 1 | E3: =COUNTA(F3:I3) -> 1 | F3: 한수영 | J3: 완료
B4: 거제시 | C4: 깃듦협동조합 | D4: 2 | E4: =COUNTA(F4:I4) -> 1 | F4: 이지은 | J4: 추가모집
B5: 거제시 | C5: 옥명꽃마을협동조합 | D5: 1 | E5: =COUNTA(F5:I5) -> 1 | F5: 윤상미 | J5: 완료
B6: 거제시 | C6: 온사회적협동조합 | D6: 2 | E6: =COUNTA(F6:I6) -> 2 | F6: 전유민 | G6: 진영근 | J6: 완료
B7: 거제시 | C7: 행복한교육사회적협동조합 | D7: 1 | E7: =COUNTA(F7:I7) -> 1 | F7: 김민성 | J7: 완료
B8: 거창군 | C8: 거창공유농업사회적협동조합 | D8: 4 | E8: =COUNTA(F8:I8) -> 3 | F8: 백민지 | G8: 임영진 | H8: 하성호 | J8: 추가모집
B9: 김해시 | C9: 마음길사회적협동조합 | D9: 4 | E9: =COUNTA(F9:I9) -> 2 | F9: 이종빈 | G9: 황예지 | J9: 추가모집
B10: 김해시 | C10: 쉴가인사회적협동조합 | D10: 1 | E10: =COUNTA(F10:I10) -> 1 | F10: 이은서 | J10: 완료
B11: 김해시 | C11: 이음사회적협동조합비아모 | D11: 4 | E11: =COUNTA(F11:I11) -> 3 | F11: 김태일 | G11: 김장미 | H11: 서인경 | J11: 추가모집
B12: 김해시 | C12: 행복유랑단협동조합 | D12: 4 | E12: =COUNTA(F12:I12) -> 4 | F12: 류아영 | G12: 전윤진 | H12: 표찬호 | I12: 김동호 | J12: 청년매니저
B13: 남해군 | C13: 관음포연꽃마을협동조합 | D13: 1 | E13: =COUNTA(F13:I13) -> 0 | J13: 추가모집
B14: 남해군 | C14: 농업회사법인주식회사다랭이팜 | D14: 1 | E14: =COUNTA(F14:I14) -> 0 | J14: 추가모집
B15: 밀양시 | C15: 국서쑥부리마실협동조합 | D15: 1 | E15: =COUNTA(F15:I15) -> 1 | F15: 윤찬미 | J15: 완료
B16: 밀양시 | C16: 레일코리아협동조합 | D16: 1 | E16: =COUNTA(F16:I16) -> 1 | F16: 구은지 | J16: 완료
B17: 밀양시 | C17: 백산마을(백산두레영농조합법인) | D17: 2 | E17: =COUNTA(F17:I17) -> 1 | F17: 최은지 | J17: 추가모집
B18: 사천시 | C18: 울림사회적협동조합 | D18: 2 | E18: =COUNTA(F18:I18) -> 2 | F18: 김효은 | G18: 임연수 | J18: 완료
B19: 산청군 | C19: 누리협동조합 | D19: 1 | E19: =COUNTA(F19:I19) -> 0 | J19: 추가모집
B20: 양산시 | C20: 미예림사회적협동조합 | D20: 3 | E20: =COUNTA(F20:I20) -> 0 | J20: 추가모집
B21: 양산시 | C21: 양산뇌병변장애인인권협회 | D21: 2 | E21: =COUNTA(F21:I21) -> 1 | F21: 문채원 | J21: 추가모집
B22: 양산시 | C22: 양산로컬푸드협동조합 | D22: 2 | E22: =COUNTA(F22:I22) -> 1 | F22: 김윤영 | J22: 추가모집
B23: 양산시 | C23: 양산에이아이메타에듀사회적협동조합 | D23: 2 | E23: =COUNTA(F23:I23) -> 2 | F23: 김문경 | G23: 안현수 | J23: 완료
B24: 의령군 | C24: 모아사회적협동조합 | D24: 1 | E24: =COUNTA(F24:I24) -> 1 | F24: 황지영 | J24: 완료
B25: 진주시 | C25: 도담사회적협동조합 | D25: 4 | E25: =COUNTA(F25:I25) -> 4 | F25: 이용희 | G25: 강창균 | H25: 지승일 | I25: 정태성 | J25: 완료
B26: 진주시 | C26: 사회적협동조합휴먼앤러브 | D26: 1 | E26: =COUNTA(F26:I26) -> 0 | J26: 추가모집
B27: 창원시 | C27: 날개사회적협동조합 | D27: 2 | E27: =COUNTA(F27:I27) -> 1 | F27: 박솔빈 | J27: 추가모집
B28: 창원시 | C28: 더클사회적협동조합 | D28: 4 | E28: =COUNTA(F28:I28) -> 1 | F28: 전선혜 | J28: 추가모집
B29: 창원시 | C29: 사회적협동조합다한 | D29: 1 | E29: =COUNTA(F29:I29) -> 1 | F29: 이수지 | J29: 완료
B30: 창원시 | C30: 새미래행복교육사회적협동조합 | D30: 1 | E30: =COUNTA(F30:I30) -> 1 | F30: 전지현 | J30: 완료
B31: 창원시 | C31: 소계마을관리사회적협동조합 | D31: 1 | E31: =COUNTA(F31:I31) -> 1 | F31: 정진규 | J31: 완료
B32: 창원시 | C32: 어반시드디자인협동조합 | D32: 1 | E32: =COUNTA(F32:I32) -> 0 | J32: 추가모집
B33: 창원시 | C33: 에스엔티(SNT)창의교육사회적협동조합 | D33: 1 | E33: =COUNTA(F33:I33) -> 1 | F33: 김희정 | J33: 완료
B34: 창원시 | C34: 에프식스사회적협동조합 | D34: 1 | E34: =COUNTA(F34:I34) -> 0 | J34: 추가모집
B35: 통영시 | C35: 나눔재가센터사회적협동조합 | D35: 2 | E35: =COUNTA(F35:I35) -> 1 | F35: 백광길 | J35: 추가모집
B36: 통영시 | C36: 멘데마을관리사회적협동조합 | D36: 1 | E36: =COUNTA(F36:I36) -> 1 | F36: 유민영 | J36: 완료
B37: 함안군 | C37: 아라씨앗드리공동체영농조합법인 | D37: 1 | E37: =COUNTA(F37:I37) -> 0 | J37: 추가모집
B38: 함안군 | C38: 주식회사알리제 | D38: 2 | E38: =COUNTA(F38:I38) -> 0 | J38: 추가모집
B39: 합천군 | C39: 삼산골푸드영농조합법인 | D39: 1 | E39: =COUNTA(F39:I39) -> 0 | J39: 추가모집
B40: 합천군 | C40: 영농조합법인가호 | D40: 1 | E40: =COUNTA(F40:I40) -> 0 | J40: 추가모집
C41: 기업 선택

Sheet 참여자
B2: 이름 | C2: 생년월일 | D2: 휴대폰번호 | E2: 이메일
B3: 강지명 | C3: 950703-1 | D3: 010-4130-9703 | E3: rkdwlaud@naver.com
B4: 강창균 | C4: 010122-3 | D4: 010-4645-4310 | E4: zxcvbn0122@naver.com
B5: 강호석 | C5: 920120-1 | D5: 010-4620-5810 | E5: khs5523@naver.com
B6: 구나현 | C6: 900808-2 | D6: 010-9285-9079 | E6: gnh9088@naver.com
B7: 구은지 | C7: 880518-2 | D7: 010-2020-3471 | E7: tnswk6848@naver.com
B8: 구혜진 | C8: 000302-4 | D8: 010-2306-0945 | E8: koosiii@naver.com
B9: 김가영 | C9: 990617-2 | D9: 010-4242-5261 | E9: yultro.music@gmail.com
B10: 김다빈 | C10: 941220-2 | D10: 010-6603-1136 | E10: dabin5217@gmail.com
B11: 김다애 | C11: 880601-2 | D11: 010-2895-8688 | E11: catguragu@naver.com
B12: 김동호 | C12: 940302-1 | D12: 010-4708-4393 | E12: monamiaz@naver.com
B13: 김문경 | C13: 930312-2 | D13: 010-7663-4966 | E13: kkii0312@naver.com
... B93: 황지영 | C93: 031112-4 | D93: 010-9726-1313 | E93: azsxdc1256@naver.com
